BEGIN:VCALENDAR
VERSION:2.0
PRODID:-//Fantagraphics Blog - ECPv6.15.20//NONSGML v1.0//EN
CALSCALE:GREGORIAN
METHOD:PUBLISH
X-ORIGINAL-URL:https://blog.fantagraphics.com
X-WR-CALDESC:Events for Fantagraphics Blog
REFRESH-INTERVAL;VALUE=DURATION:PT1H
X-Robots-Tag:noindex
X-PUBLISHED-TTL:PT1H
BEGIN:VTIMEZONE
TZID:America/Los_Angeles
BEGIN:DAYLIGHT
TZOFFSETFROM:-0800
TZOFFSETTO:-0700
TZNAME:PDT
DTSTART:20210314T100000
END:DAYLIGHT
BEGIN:STANDARD
TZOFFSETFROM:-0700
TZOFFSETTO:-0800
TZNAME:PST
DTSTART:20211107T090000
END:STANDARD
BEGIN:DAYLIGHT
TZOFFSETFROM:-0800
TZOFFSETTO:-0700
TZNAME:PDT
DTSTART:20220313T100000
END:DAYLIGHT
BEGIN:STANDARD
TZOFFSETFROM:-0700
TZOFFSETTO:-0800
TZNAME:PST
DTSTART:20221106T090000
END:STANDARD
BEGIN:DAYLIGHT
TZOFFSETFROM:-0800
TZOFFSETTO:-0700
TZNAME:PDT
DTSTART:20230312T100000
END:DAYLIGHT
BEGIN:STANDARD
TZOFFSETFROM:-0700
TZOFFSETTO:-0800
TZNAME:PST
DTSTART:20231105T090000
END:STANDARD
END:VTIMEZONE
BEGIN:VEVENT
DTSTART;TZID=America/Los_Angeles:20220521T140000
DTEND;TZID=America/Los_Angeles:20220521T160000
DTSTAMP:20260421T174502
CREATED:20220509T223912Z
LAST-MODIFIED:20220509T223912Z
UID:24360-1653141600-1653148800@blog.fantagraphics.com
SUMMARY:Los Angeles\, CA: Robert Goodin (The Kurdles Adventure Magazine #2) and Yeimi at Secret Headquarters
DESCRIPTION:Join us at Secret Headquarters to celebrate the release of The Kurdles Adventure Magazine #2! Robert Goodin will be signing copies along with his daughter\, Yeimi\, who guest colored a story in the magazine. This event will be fun for the whole family *and* you’ll get a free tomato plant with the purchase of the book (while supplies last)! \nAbout the book: \nThe Kurdles gang is back with an all-new\, all-ages adventure! Sally the Bear moves into the woods with rest of the gang: Pentapus\, Hank the Reverse-Centaur\, Phineas the straw man\, and introducing Roy the Millipede — fastest berry picker in the land! Gorgeously illustrated by veteran animation storyboard artist and cartoonist Robert Goodin.
URL:https://blog.fantagraphics.com/events/los-angeles-ca-robert-goodin-the-kurdles-adventure-magazine-2-and-yeimi-at-secret-headquarters/
LOCATION:Secret Headquarters\, 3137 Glendale Blvd\, Los Angeles\, CA\, 90039\, United States
ATTACH;FMTTYPE=image/jpeg:https://blog.fantagraphics.com/wp-content/uploads/2022/05/SigningFlyerInstagramPhoto.jpg
END:VEVENT
BEGIN:VEVENT
DTSTART;TZID=America/Los_Angeles:20220524T170000
DTEND;TZID=America/Los_Angeles:20220524T190000
DTSTAMP:20260421T174502
CREATED:20220502T230415Z
LAST-MODIFIED:20220502T230415Z
UID:24332-1653411600-1653418800@blog.fantagraphics.com
SUMMARY:Portland\, OR: Conor Stechschulte (Ultrasound) Book Signing at Floating World Comics
DESCRIPTION:Hey\, Portland! Join us at Floating World Comics to celebrate the release of Ultrasound by Conor Stechschulte! \nAbout the book: \nIn this graphic novel\, which has been adapted into a feature film starring Vincent Kartheiser (Mad Men)\, Glen and Cyndi become unwitting test subjects in a mind-control experiment after a strange sexual encounter. They search for answers as their own memories become tools for manipulation. \nDriving home from a wedding late one night during a heavy storm\, out of cell range\, Glen blows out his tires. He knocks on the door of the only house he sees and is greeted by an uncomfortably friendly middle-aged man\, Arthur\, and his attractive younger wife\, Cyndi. The strange couple pours him a drink\, and then more drinks\, followed by odd confessions and an unexpected offer that Glen can’t refuse. Where Ultrasound zigs and zags from there is into a dizzying plot involving mind control\, government secrets\, gaslighting\, and political intrigue that is always one step ahead of the reader. Stechschulte’s brilliant use of color and mastery of comics storytelling yields a breathtaking puzzlebox of a sci fi thriller — the moment you finish\, you will want to go back and reread Ultrasound from the start. \nUltrasound has also been adapted into an acclaimed feature film directed by Robert Schroeder and starring Vincent Kartheiser (Mad Men)\, from a screenplay by Stechschulte. The film earned raves at the 2021 Tribeca Film Fest and was released in theaters in March 2022 and will premiere streaming on Hulu in June. \n 
URL:https://blog.fantagraphics.com/events/portland-or-conor-stechschulte-ultrasound-book-signing-at-floating-world-comics/
LOCATION:Floating World Comics\, 1223 Lloyd Center\, Portland\, OR\, 97232\, United States
ATTACH;FMTTYPE=image/png:https://blog.fantagraphics.com/wp-content/uploads/2022/05/Floating-World3.png
END:VEVENT
BEGIN:VEVENT
DTSTART;TZID=America/Los_Angeles:20220525T160000
DTEND;TZID=America/Los_Angeles:20220525T170000
DTSTAMP:20260421T174502
CREATED:20220502T234216Z
LAST-MODIFIED:20220502T234216Z
UID:24337-1653494400-1653498000@blog.fantagraphics.com
SUMMARY:San Francisco\, CA: Conor Stechschulte (Ultrasound) Book Signing at Mission: Comics and Art
DESCRIPTION:Hey\, San Francisco! Join us at Mission: Comics and Art to celebrate the release of Ultrasound by Conor Stechschulte! \nAbout the book: \nIn this graphic novel\, which has been adapted into a feature film starring Vincent Kartheiser (Mad Men)\, Glen and Cyndi become unwitting test subjects in a mind-control experiment after a strange sexual encounter. They search for answers as their own memories become tools for manipulation. \nDriving home from a wedding late one night during a heavy storm\, out of cell range\, Glen blows out his tires. He knocks on the door of the only house he sees and is greeted by an uncomfortably friendly middle-aged man\, Arthur\, and his attractive younger wife\, Cyndi. The strange couple pours him a drink\, and then more drinks\, followed by odd confessions and an unexpected offer that Glen can’t refuse. Where Ultrasound zigs and zags from there is into a dizzying plot involving mind control\, government secrets\, gaslighting\, and political intrigue that is always one step ahead of the reader. Stechschulte’s brilliant use of color and mastery of comics storytelling yields a breathtaking puzzlebox of a sci fi thriller — the moment you finish\, you will want to go back and reread Ultrasound from the start. \nUltrasound has also been adapted into an acclaimed feature film directed by Robert Schroeder and starring Vincent Kartheiser (Mad Men)\, from a screenplay by Stechschulte. The film earned raves at the 2021 Tribeca Film Fest and was released in theaters in March 2022 and will premiere streaming on Hulu in June. \n 
URL:https://blog.fantagraphics.com/events/san-francisco-ca-conor-stechschulte-ultrasound-book-signing-at-mission-comics-and-art/
LOCATION:Mission: Comics and Art\, 3520 20th St\, San Francisco\, CA\, 94110\, United States
ATTACH;FMTTYPE=image/png:https://blog.fantagraphics.com/wp-content/uploads/2022/05/Mission3.png
END:VEVENT
BEGIN:VEVENT
DTSTART;TZID=America/Los_Angeles:20220527T180000
DTEND;TZID=America/Los_Angeles:20220527T200000
DTSTAMP:20260421T174502
CREATED:20220503T001438Z
LAST-MODIFIED:20220503T001438Z
UID:24341-1653674400-1653681600@blog.fantagraphics.com
SUMMARY:Los Angeles\, CA: Ron Regé\, Jr. (Halcyon)\, Jordan Crane (Keeping Two)\, and Conor Stechschulte (Ultrasound) Book Signing at Secret Headquarters
DESCRIPTION:It’s a Fantagraphics Showcase! Ron Regé\, Jr. (Halcyon)\, Jordan Crane (Keeping Two)\, and Conor Stechschulte (Ultrasound) will be signing at Secret Headquarters together–what a night!
URL:https://blog.fantagraphics.com/events/los-angeles-ca-ron-rege-jr-halcyon-jordan-crane-keeping-two-and-conor-stechschulte-ultrasound-book-signing-at-secret-headquarters/
LOCATION:Secret Headquarters\, 3137 Glendale Blvd\, Los Angeles\, CA\, 90039\, United States
ATTACH;FMTTYPE=image/jpeg:https://blog.fantagraphics.com/wp-content/uploads/2022/05/Three-Signings3-scaled.jpg
END:VEVENT
BEGIN:VEVENT
DTSTART;TZID=America/Los_Angeles:20220531T183000
DTEND;TZID=America/Los_Angeles:20220531T193000
DTSTAMP:20260421T174502
CREATED:20220503T010533Z
LAST-MODIFIED:20220503T010533Z
UID:24347-1654021800-1654025400@blog.fantagraphics.com
SUMMARY:Virtual: Benjamin Marra\, David Birke\, and Nicholas McCarthy (Disciples) Virtual Book Launch at Skylight Books
DESCRIPTION:*Please note: This event will take place live on Crowdcast. RSVP here to join the livestream or watch the replay. \nPreorders will include an exclusive bookplate signed by Benjamin Marra\, David Birke and Nicholas McCarthy while supplies last! Order yours here! \nAbout the book: \nMarin County\, 1978. In this graphic novel\, teens Clara and Wendy get high one night alone at home. Before the night ends\, they’ve disappeared — until five months later\, when Clara is found\, disheveled\, but alive\, in Death Valley National Park. \nFrom Clara’s mysterious reappearance in Death Valley\, Disciples cuts to the present day\, where stories of “The California Cult” and its enigmatic — and never-caught — leader\, Billy Joe\, are as much a part of the popular culture as the Manson Family. Clara\, the lone survivor of the cult\, has adopted a new identity to protect her and her daughter\, Wren. And she mostly does\, until one night when the past and present horrifically collide. \nDisciples is a seamless collaboration between cartoonist Ben Marra and filmmakers David Birke and Nicholas McCarthy. Birke and McCarthy’s script celebrates and reinvents a cult film ethos. It combines the best of 1970s era eerie-thriller-terror movies in a fresh and revelatory way\, similar to how Marra has continued/reinvented the work of Abel Ferrara and George Cosmatos in graphic novels like Night Business. \nBenjamin Marra is the author of several acclaimed graphic novels from Fantagraphics\, including Terror Assaulter (O.M.W.O.T.)\, Night Business\, and American Blood. He received a B.F.A. in Illustration from Syracuse University; studied in Florence\, Italy; and earned his M.F.A. degree in Illustration from the School of Visual Arts. He lives in Montreal. \nDavid Birke is a screenwriter known for the films Elle (2016)\, Slender Man (2018)\, and 13 Sins (2014). He lives in Tarzana with his wife and two daughters. \nNicholas McCarthy is a writer and director\, known for The Pact (2012)\, At the Devil’s Door (2014) and The Prodigy (2019).
URL:https://blog.fantagraphics.com/events/virtual-benjamin-marra-david-birke-and-nicholas-mccarthy-disciples-virtual-book-launch-at-skylight-books/
LOCATION:Virtual
ATTACH;FMTTYPE=image/jpeg:https://blog.fantagraphics.com/wp-content/uploads/2022/05/DISCIPLES3-scaled.jpg
END:VEVENT
END:VCALENDAR