BEGIN:VCALENDAR
VERSION:2.0
PRODID:-//Fantagraphics Blog - ECPv6.15.20//NONSGML v1.0//EN
CALSCALE:GREGORIAN
METHOD:PUBLISH
X-WR-CALNAME:Fantagraphics Blog
X-ORIGINAL-URL:https://blog.fantagraphics.com
X-WR-CALDESC:Events for Fantagraphics Blog
REFRESH-INTERVAL;VALUE=DURATION:PT1H
X-Robots-Tag:noindex
X-PUBLISHED-TTL:PT1H
BEGIN:VTIMEZONE
TZID:America/Los_Angeles
BEGIN:DAYLIGHT
TZOFFSETFROM:-0800
TZOFFSETTO:-0700
TZNAME:PDT
DTSTART:20150308T100000
END:DAYLIGHT
BEGIN:STANDARD
TZOFFSETFROM:-0700
TZOFFSETTO:-0800
TZNAME:PST
DTSTART:20151101T090000
END:STANDARD
BEGIN:DAYLIGHT
TZOFFSETFROM:-0800
TZOFFSETTO:-0700
TZNAME:PDT
DTSTART:20160313T100000
END:DAYLIGHT
BEGIN:STANDARD
TZOFFSETFROM:-0700
TZOFFSETTO:-0800
TZNAME:PST
DTSTART:20161106T090000
END:STANDARD
BEGIN:DAYLIGHT
TZOFFSETFROM:-0800
TZOFFSETTO:-0700
TZNAME:PDT
DTSTART:20170312T100000
END:DAYLIGHT
BEGIN:STANDARD
TZOFFSETFROM:-0700
TZOFFSETTO:-0800
TZNAME:PST
DTSTART:20171105T090000
END:STANDARD
END:VTIMEZONE
BEGIN:VEVENT
DTSTART;TZID=America/Los_Angeles:20161206T080000
DTEND;TZID=America/Los_Angeles:20161206T170000
DTSTAMP:20260423T121730
CREATED:20161206T215810Z
LAST-MODIFIED:20161206T215810Z
UID:15074-1481011200-1481043600@blog.fantagraphics.com
SUMMARY:Fantagraphics 40th Anniversary Party
DESCRIPTION:Following the exhibition and book signing event at the Fantagraphics Bookstore (https://www.facebook.com/events/222799071481759)\, we’re opening the doors of the Georgetown Stables to our friends and family to celebrate with us\, and toast to 40 more years of Fantagraphics Books. \nDelicious food provided by Fonda la Catrina; refreshments\, and music to keep the night going! \nJoin us the night before on Friday\, December 9th for a free discussion panel at Folio on the history of Fantagraphics with those who helped make us who we are today: Gary Groth\, Jaime Hernandez\, Gilbert Hernandez\, Ellen Forney\, Megan Kelso\, and Jim Woodring\nhttps://www.facebook.com/events/360317744320905/
URL:https://blog.fantagraphics.com/events/fantagraphics-40th-anniversary-party/
LOCATION:Georgetown Stables\, 980 S Nebraska St\, Seattle\, WA\, 98108\, United States
ATTACH;FMTTYPE=image/png:https://blog.fantagraphics.com/wp-content/uploads/2016/11/40th-anniversary-poster-e1479935501654.png
END:VEVENT
BEGIN:VEVENT
DTSTART;TZID=America/Los_Angeles:20161209T180000
DTEND;TZID=America/Los_Angeles:20161209T200000
DTSTAMP:20260423T121730
CREATED:20161206T215423Z
LAST-MODIFIED:20161206T215423Z
UID:15072-1481306400-1481313600@blog.fantagraphics.com
SUMMARY:We Told You So: Fantagraphics Anniversary Panel
DESCRIPTION:Celebrate 40 years of Fantagraphics Books with a panel discussion about the creation and formative years of the World’s best cartoonists\, and most unruly publisher around.\nJoin Gary Groth\, Gilbert Hernandez\, Jaime Hernandez\, Megan Kelso\, Ellen Forney\, and Jim Woodring – hosted by Folio \nJoin us the next day for an anniversary exhibition and signing at the Fantagraphics Bookstore\n(https://www.facebook.com/events/222799071481759) \n…followed by a party at the Georgetown Stables – food\, refreshments\, and music provided\n(https://www.facebook.com/events/1151760958244170/)
URL:https://blog.fantagraphics.com/events/told-fantagraphics-anniversary-panel/
LOCATION:Folio\, 314 Marion St\, Seattle\, WA\, 98104\, United States
ATTACH;FMTTYPE=image/png:https://blog.fantagraphics.com/wp-content/uploads/2016/11/40th-anniversary-poster-e1479935501654.png
END:VEVENT
BEGIN:VEVENT
DTSTART;TZID=America/Los_Angeles:20161210T180000
DTEND;TZID=America/Los_Angeles:20161210T210000
DTSTAMP:20260423T121730
CREATED:20160802T191827Z
LAST-MODIFIED:20160802T191827Z
UID:14428-1481392800-1481403600@blog.fantagraphics.com
SUMMARY:Seattle: We Told You So - Art Show and Reception
DESCRIPTION:We Told You So: Comics as Art\, 40th Anniversary Show\n\nOpening reception with Gilbert and Jaime Hernandez and more\, Saturday\, December 10\, 6:00 to 9:00 PM\n\nExhibition continues through January 11\, 2017\n\n*PARTY DETAILS TO COME*
URL:https://blog.fantagraphics.com/events/seattle-told-art-show-reception/
LOCATION:Fantagraphics Bookstore and Gallery\, 1201 S Vale St\, Seattle\, WA\, 98108\, United States
END:VEVENT
END:VCALENDAR