BEGIN:VCALENDAR
VERSION:2.0
PRODID:-//Fantagraphics Blog - ECPv6.15.20//NONSGML v1.0//EN
CALSCALE:GREGORIAN
METHOD:PUBLISH
X-ORIGINAL-URL:https://blog.fantagraphics.com
X-WR-CALDESC:Events for Fantagraphics Blog
REFRESH-INTERVAL;VALUE=DURATION:PT1H
X-Robots-Tag:noindex
X-PUBLISHED-TTL:PT1H
BEGIN:VTIMEZONE
TZID:America/New_York
BEGIN:DAYLIGHT
TZOFFSETFROM:-0500
TZOFFSETTO:-0400
TZNAME:EDT
DTSTART:20250309T070000
END:DAYLIGHT
BEGIN:STANDARD
TZOFFSETFROM:-0400
TZOFFSETTO:-0500
TZNAME:EST
DTSTART:20251102T060000
END:STANDARD
BEGIN:DAYLIGHT
TZOFFSETFROM:-0500
TZOFFSETTO:-0400
TZNAME:EDT
DTSTART:20260308T070000
END:DAYLIGHT
BEGIN:STANDARD
TZOFFSETFROM:-0400
TZOFFSETTO:-0500
TZNAME:EST
DTSTART:20261101T060000
END:STANDARD
BEGIN:DAYLIGHT
TZOFFSETFROM:-0500
TZOFFSETTO:-0400
TZNAME:EDT
DTSTART:20270314T070000
END:DAYLIGHT
BEGIN:STANDARD
TZOFFSETFROM:-0400
TZOFFSETTO:-0500
TZNAME:EST
DTSTART:20271107T060000
END:STANDARD
END:VTIMEZONE
BEGIN:VTIMEZONE
TZID:America/Kentucky/Louisville
BEGIN:DAYLIGHT
TZOFFSETFROM:-0500
TZOFFSETTO:-0400
TZNAME:EDT
DTSTART:20250309T070000
END:DAYLIGHT
BEGIN:STANDARD
TZOFFSETFROM:-0400
TZOFFSETTO:-0500
TZNAME:EST
DTSTART:20251102T060000
END:STANDARD
BEGIN:DAYLIGHT
TZOFFSETFROM:-0500
TZOFFSETTO:-0400
TZNAME:EDT
DTSTART:20260308T070000
END:DAYLIGHT
BEGIN:STANDARD
TZOFFSETFROM:-0400
TZOFFSETTO:-0500
TZNAME:EST
DTSTART:20261101T060000
END:STANDARD
BEGIN:DAYLIGHT
TZOFFSETFROM:-0500
TZOFFSETTO:-0400
TZNAME:EDT
DTSTART:20270314T070000
END:DAYLIGHT
BEGIN:STANDARD
TZOFFSETFROM:-0400
TZOFFSETTO:-0500
TZNAME:EST
DTSTART:20271107T060000
END:STANDARD
END:VTIMEZONE
BEGIN:VTIMEZONE
TZID:Europe/London
BEGIN:DAYLIGHT
TZOFFSETFROM:+0000
TZOFFSETTO:+0100
TZNAME:BST
DTSTART:20250330T010000
END:DAYLIGHT
BEGIN:STANDARD
TZOFFSETFROM:+0100
TZOFFSETTO:+0000
TZNAME:GMT
DTSTART:20251026T010000
END:STANDARD
BEGIN:DAYLIGHT
TZOFFSETFROM:+0000
TZOFFSETTO:+0100
TZNAME:BST
DTSTART:20260329T010000
END:DAYLIGHT
BEGIN:STANDARD
TZOFFSETFROM:+0100
TZOFFSETTO:+0000
TZNAME:GMT
DTSTART:20261025T010000
END:STANDARD
BEGIN:DAYLIGHT
TZOFFSETFROM:+0000
TZOFFSETTO:+0100
TZNAME:BST
DTSTART:20270328T010000
END:DAYLIGHT
BEGIN:STANDARD
TZOFFSETFROM:+0100
TZOFFSETTO:+0000
TZNAME:GMT
DTSTART:20271031T010000
END:STANDARD
END:VTIMEZONE
BEGIN:VEVENT
DTSTART;VALUE=DATE:20260425
DTEND;VALUE=DATE:20260427
DTSTAMP:20260425T172347
CREATED:20260415T204134Z
LAST-MODIFIED:20260415T204134Z
UID:27398-1777075200-1777247999@blog.fantagraphics.com
SUMMARY:New York\, NY: Fantagraphics at L'Alliance New York Comic Arts Fest
DESCRIPTION:Come see us at the L’Alliance New York Comic Arts Fest on April 25th and 26th! We’ll be tabling at the Artist Alley and Bookstore area and we’ll have signings with some of our artists: \nSaturday\, April 25th:\n12:30-1:30 pm: Kim Deitch (How I Make Comics)\n1:30-2:30 pm: Julia Gfrörer (World Within the World: Collected Minicomix & Short Works 2010-2022)\n2:30-3:30 pm: Peter Kuper (Wish We Weren’t Here: Postcards From the Apocalypse) \nSunday\, April 26th:\n12:30-1:30 pm: Kim Deitch (How I Make Comics)\n1:30-2:30 pm: Julia Gfrörer (World Within the World: Collected Minicomix & Short Works 2010-2022) \nBuy passes here!
URL:https://blog.fantagraphics.com/events/new-york-ny-fantagraphics-at-lalliance-new-york-comic-arts-fest/
LOCATION:L’Alliance New York\, 22 East 60th Street\, New York\, NY\, 10022\, United States
ATTACH;FMTTYPE=image/jpeg:https://blog.fantagraphics.com/wp-content/uploads/2026/04/LAlliance-NY-Comic-Arts-Fest-2026-FB.jpg
END:VEVENT
BEGIN:VEVENT
DTSTART;TZID=America/Kentucky/Louisville:20260425T170000
DTEND;TZID=America/Kentucky/Louisville:20260425T200000
DTSTAMP:20260425T172347
CREATED:20260402T220200Z
LAST-MODIFIED:20260402T220200Z
UID:27386-1777136400-1777147200@blog.fantagraphics.com
SUMMARY:Louisville\, KY: Ben Sears (Young Shadow & the Watchdogs) Book Launch at Ultra Pop!
DESCRIPTION:Don’t miss the book launch for Young Shadow & the Watchdogs: Ben Sears will be celebrating the release of his new middle grade graphic novel on Independent Bookstore Day (4/25) at Ultra Pop!
URL:https://blog.fantagraphics.com/events/louisville-ky-ben-sears-young-shadow-the-watchdogs-book-launch-at-ultra-pop/
LOCATION:Ultra Pop!\, 960 Barret Ave\, Louisville\, KY\, 40204\, United States
ATTACH;FMTTYPE=image/jpeg:https://blog.fantagraphics.com/wp-content/uploads/2026/04/Ben-Sears-Ultra-Pop-FB.jpg
END:VEVENT
BEGIN:VEVENT
DTSTART;TZID=America/New_York:20260507T190000
DTEND;TZID=America/New_York:20260507T200000
DTSTAMP:20260425T172347
CREATED:20260416T213723Z
LAST-MODIFIED:20260416T213813Z
UID:27405-1778180400-1778184000@blog.fantagraphics.com
SUMMARY:Montreal\, QC: Benjamin Marra (What We Mean By Yesterday Vol. 2) Book Launch at Librairie Drawn & Quarterly
DESCRIPTION:Head to Librairie Drawn & Quarterly on May 7th at 7:00 pm for the book launch of Benjamin Marra’s What We Mean By Yesterday: Vol. 2!
URL:https://blog.fantagraphics.com/events/montreal-qc-benjamin-marra-what-we-mean-by-yesterday-vol-2-book-launch-at-librairie-drawn-quarterly/
LOCATION:Librairie D&Q\, 176 Rue Bernard O\, Montreal\, QC\, H2T 2K2\, Canada
ATTACH;FMTTYPE=image/jpeg:https://blog.fantagraphics.com/wp-content/uploads/2026/04/Benjamin-Marra-Drawn-Quarterly-FB.jpg
END:VEVENT
BEGIN:VEVENT
DTSTART;TZID=Europe/London:20260514T190000
DTEND;TZID=Europe/London:20260514T200000
DTSTAMP:20260425T172347
CREATED:20260409T203907Z
LAST-MODIFIED:20260409T203907Z
UID:27390-1778785200-1778788800@blog.fantagraphics.com
SUMMARY:Candice Purwin (The Book of Murmurs) Book Launch at Lighthouse - Edinburgh's Radical Bookshop
DESCRIPTION:Don’t miss the book launch for The Book of Murmurs–Candice Purwin will be at Lighthouse – Edinburgh’s Radical Bookshop on May 14th at 7:00 pm!
URL:https://blog.fantagraphics.com/events/candice-purwin-the-book-of-murmurs-book-launch-at-lighthouse-edinburghs-radical-bookshop/
LOCATION:Lighthouse – Edinburgh’s Radical Bookshop\, 43-45 W Nicolson St\, Edinburgh\, Scotland\, EH8 9DB\, United Kingdom
ATTACH;FMTTYPE=image/jpeg:https://blog.fantagraphics.com/wp-content/uploads/2026/04/Candice-Purwin-Lighthouse-FB.jpg
END:VEVENT
BEGIN:VEVENT
DTSTART;TZID=America/New_York:20260515T190000
DTEND;TZID=America/New_York:20260515T200000
DTSTAMP:20260425T172347
CREATED:20260415T185434Z
LAST-MODIFIED:20260415T185434Z
UID:27395-1778871600-1778875200@blog.fantagraphics.com
SUMMARY:Brooklyn\, NY: Kim Deitch (How I Make Comics) Book Signing at Desert Island
DESCRIPTION:Head to Desert Island on 5/15 at 7:00 pm for a signing with legendary underground cartoonist Kim Deitch! He’s celebrating the release of his new book–part real autobiography and imagined comics history–How I Make Comics.
URL:https://blog.fantagraphics.com/events/brooklyn-ny-kim-deitch-how-i-make-comics-book-signing-at-desert-island/
LOCATION:Desert Island\, 490 Metropolitan Ave\, Brooklyn\, NY\, 11211\, United States
ATTACH;FMTTYPE=image/jpeg:https://blog.fantagraphics.com/wp-content/uploads/2026/04/Kim-Deitch-Desert-Island-FB.jpg
END:VEVENT
BEGIN:VEVENT
DTSTART;TZID=Europe/London:20260530T130000
DTEND;TZID=Europe/London:20260530T140000
DTSTAMP:20260425T172347
CREATED:20260415T213756Z
LAST-MODIFIED:20260417T183956Z
UID:27402-1780146000-1780149600@blog.fantagraphics.com
SUMMARY:London\, England: Candice Purwin (The Book of Murmurs) Book Signing at Gosh! Comics
DESCRIPTION:Candice Purwin is going to London! She’ll be signing copies of her gorgeous new graphic novel\, The Book of Murmurs\, at Gosh! Comics on May 30th at 1:00 pm.
URL:https://blog.fantagraphics.com/events/london-england-candice-purwin-the-book-of-murmurs-book-signing-at-gosh-comics/
LOCATION:Gosh! Comics\, 1 Berwick Street\, Soho\, London\, W1F 0DR\, United Kingdom
ATTACH;FMTTYPE=image/jpeg:https://blog.fantagraphics.com/wp-content/uploads/2026/04/Candice-Purwin-Gosh-Comics-FB-1.jpg
END:VEVENT
END:VCALENDAR